BEGIN:VCALENDAR
VERSION:2.0
PRODID:icalendar-ruby
CALSCALE:GREGORIAN
METHOD:PUBLISH
BEGIN:VEVENT
DTSTAMP:20260423T162653Z
UID:5-401760@timmforlife.org
DTSTART:20260426T170000Z
DTEND:20260426T180000Z
CLASS:PUBLIC
CREATED:20260423T082402
DESCRIPTION:Sunday Worship
LAST-MODIFIED:20260423T082402
LOCATION:
SUMMARY:Sunday Worship
URL;VALUE=URI:https://www.timmforlife.org/events/sunday-worship/2026-04-26
END:VEVENT
END:VCALENDAR
